BEGIN:VCALENDAR
VERSION:2.0
PRODID:holocaust.georgia.gov
X-WR-TIMEZONE:America/New_York
BEGIN:VTIMEZONE
TZID:America/New_York
X-LIC-LOCATION:America/New_York
END:VTIMEZONE
BEGIN:VEVENT
UID:608d767b0d8ba
DTSTART;TZID=UTC:20180227T183000
SEQUENCE:0
TRANSP:OPAQUE
DTEND;TZID=UTC:20180227T183000
URL:https://holocaust.georgia.gov/events/2018-02-27/survivors-story-hershel
 -greenblat
LOCATION:Faith Christian Academy 2664 Georgia 197 S  MT. AIRY\, GA 30563
SUMMARY:A Survivor's Story: Hershel Greenblat
CLASS:PUBLIC
DESCRIPTION:The opportunity to hear the first-person account of a Holocaust
  survivor is often a once in a lifetime experience. Join us on February 27
  as Hershel Greenblat shares his story. This program is presented in coop
 eration with Faith Christian Academy.This event is free to attend and open
  to the public. RSVP on the Facebook page.\n\nHershel Greenblat was born 
 in the Ukraine in 1941. The first two years of his life were spent hiding 
 in a cave. When the German invasion of the Soviet Union began\, Hershel’
 s parents moved frequently to avoid capture. Life for Hershel and his fami
 ly changed dramatically when they were arrived in the American controlled 
 zone of Austria. They lived in displaced persons camps for five years befo
 re receiving permission to immigrate to the U.S. 
DTSTAMP:20210501T114043Z
END:VEVENT
END:VCALENDAR