BEGIN:VCALENDAR
VERSION:2.0
PRODID:holocaust.georgia.gov
X-WR-TIMEZONE:America/New_York
BEGIN:VTIMEZONE
TZID:America/New_York
X-LIC-LOCATION:America/New_York
END:VTIMEZONE
BEGIN:VEVENT
UID:614e76e1699a4
DTSTART;TZID=UTC:20181118T200000
SEQUENCE:0
TRANSP:OPAQUE
DTEND;TZID=UTC:20181118T200000
URL:https://holocaust.georgia.gov/11-18-18
LOCATION:Peachtree Corners City Hall Ballroom 310 Technology Parkway\, NW
   PEACHTREE CORNERS\, GA 30092
SUMMARY:A Survivor's Story: Manuela Mendels Bornstein
CLASS:PUBLIC
DESCRIPTION:The opportunity to hear the first-person account of a Holocaust
  survivor is often a once in a lifetime experience. Join us on November 18
 \, as Manuela Mendels Bornstein shares her story.\n\nThis program is prese
 nted in cooperation with the Gwinnett Public Library.This event is free to
  attend and open to the public. RSVP on the Facebook page.\n\nManuela Men
 dels Bornstein was born in Paris\, France\, to a Dutch father and a German
  mother. In July 1942\, the French police concentrated 13\,000 Jews in the
  Velodrome d'Hiver sports arena in Paris for days without food or water be
 fore deporting them to the Auschwitz-Birkenau killing center. Life for Man
 uela and her family changed dramatically when they narrowly escaped this m
 ajor deportation through the help of some friends who were active members 
 of the French resistance.
DTSTAMP:20210924T210953Z
END:VEVENT
END:VCALENDAR